BEGIN:VCALENDAR
VERSION:2.0
PRODID:icalendar-ruby
CALSCALE:GREGORIAN
METHOD:PUBLISH
BEGIN:VEVENT
DTSTAMP:20260422T144533Z
UID:9-298459@faithumcwoodbury.org
DTSTART:20260424T153000Z
DTEND:20260424T210000Z
CLASS:PUBLIC
CREATED:20260421T125023
DESCRIPTION:Donate by 4/30/26 and receive a $15 Gift Card!
LAST-MODIFIED:20260421T125023
LOCATION:Faith UMC\, Woodbury\, 133 Main Street\, Woodbury PA 16695
SUMMARY:Woodbury Community Blood Drive
URL;VALUE=URI:https://www.faithumcwoodbury.org/events/woodbury-community-bl
 ood-drive--9/2026-04-24
ATTACH;FILENAME=Blood-Drive.jpg;FMTTYPE=image/jpeg:https://dq5pwpg1q8ru0.cl
 oudfront.net/2026/04/21/16/50/23/48eac0b0-362c-4999-bd54-4641a288bc17/Bloo
 d-Drive.jpg
END:VEVENT
END:VCALENDAR
